BEGIN:VCALENDAR
VERSION:2.0
PRODID:-//Saskatoon Livestock Sales - ECPv6.15.17.1//NONSGML v1.0//EN
CALSCALE:GREGORIAN
METHOD:PUBLISH
X-ORIGINAL-URL:https://www.saskatoonlivestocksales.com
X-WR-CALDESC:Events for Saskatoon Livestock Sales
REFRESH-INTERVAL;VALUE=DURATION:PT1H
X-Robots-Tag:noindex
X-PUBLISHED-TTL:PT1H
BEGIN:VTIMEZONE
TZID:America/Regina
BEGIN:STANDARD
TZOFFSETFROM:-0600
TZOFFSETTO:-0600
TZNAME:CST
DTSTART:20230101T000000
END:STANDARD
END:VTIMEZONE
BEGIN:VEVENT
DTSTART;TZID=America/Regina:20260414T100000
DTEND;TZID=America/Regina:20260414T160000
DTSTAMP:20260421T043220
CREATED:20251211T143007Z
LAST-MODIFIED:20251211T143007Z
UID:4775-1776160800-1776182400@www.saskatoonlivestocksales.com
SUMMARY:Regular Sale
DESCRIPTION:
URL:https://www.saskatoonlivestocksales.com/sale/regular-sale-35/2026-04-14/
CATEGORIES:Regular Sales
END:VEVENT
BEGIN:VEVENT
DTSTART;TZID=America/Regina:20260407T100000
DTEND;TZID=America/Regina:20260407T160000
DTSTAMP:20260421T043220
CREATED:20251211T143007Z
LAST-MODIFIED:20251211T143007Z
UID:4774-1775556000-1775577600@www.saskatoonlivestocksales.com
SUMMARY:Regular Sale
DESCRIPTION:
URL:https://www.saskatoonlivestocksales.com/sale/regular-sale-35/2026-04-07/
CATEGORIES:Regular Sales
END:VEVENT
BEGIN:VEVENT
DTSTART;TZID=America/Regina:20260331T100000
DTEND;TZID=America/Regina:20260331T160000
DTSTAMP:20260421T043220
CREATED:20251211T143007Z
LAST-MODIFIED:20251211T143007Z
UID:4773-1774951200-1774972800@www.saskatoonlivestocksales.com
SUMMARY:Regular Sale
DESCRIPTION:
URL:https://www.saskatoonlivestocksales.com/sale/regular-sale-35/2026-03-31/
CATEGORIES:Regular Sales
END:VEVENT
BEGIN:VEVENT
DTSTART;TZID=America/Regina:20260324T100000
DTEND;TZID=America/Regina:20260324T160000
DTSTAMP:20260421T043220
CREATED:20251211T143007Z
LAST-MODIFIED:20251211T143007Z
UID:4772-1774346400-1774368000@www.saskatoonlivestocksales.com
SUMMARY:Regular Sale
DESCRIPTION:
URL:https://www.saskatoonlivestocksales.com/sale/regular-sale-35/2026-03-24/
CATEGORIES:Regular Sales
END:VEVENT
BEGIN:VEVENT
DTSTART;TZID=America/Regina:20260317T100000
DTEND;TZID=America/Regina:20260317T160000
DTSTAMP:20260421T043220
CREATED:20251211T143007Z
LAST-MODIFIED:20251211T143007Z
UID:4770-1773741600-1773763200@www.saskatoonlivestocksales.com
SUMMARY:Regular Sale
DESCRIPTION:
URL:https://www.saskatoonlivestocksales.com/sale/regular-sale-35/2026-03-17/
CATEGORIES:Regular Sales
END:VEVENT
BEGIN:VEVENT
DTSTART;TZID=America/Regina:20260310T100000
DTEND;TZID=America/Regina:20260310T160000
DTSTAMP:20260421T043220
CREATED:20251211T143007Z
LAST-MODIFIED:20251211T143007Z
UID:4769-1773136800-1773158400@www.saskatoonlivestocksales.com
SUMMARY:Regular Sale
DESCRIPTION:
URL:https://www.saskatoonlivestocksales.com/sale/regular-sale-35/2026-03-10/
CATEGORIES:Regular Sales
END:VEVENT
BEGIN:VEVENT
DTSTART;TZID=America/Regina:20260303T100000
DTEND;TZID=America/Regina:20260303T160000
DTSTAMP:20260421T043220
CREATED:20251211T143007Z
LAST-MODIFIED:20251211T143007Z
UID:4768-1772532000-1772553600@www.saskatoonlivestocksales.com
SUMMARY:Regular Sale
DESCRIPTION:
URL:https://www.saskatoonlivestocksales.com/sale/regular-sale-35/2026-03-03/
CATEGORIES:Regular Sales
END:VEVENT
BEGIN:VEVENT
DTSTART;TZID=America/Regina:20260224T100000
DTEND;TZID=America/Regina:20260224T160000
DTSTAMP:20260421T043220
CREATED:20251211T143007Z
LAST-MODIFIED:20251211T143007Z
UID:4767-1771927200-1771948800@www.saskatoonlivestocksales.com
SUMMARY:Regular Sale
DESCRIPTION:
URL:https://www.saskatoonlivestocksales.com/sale/regular-sale-35/2026-02-24/
CATEGORIES:Regular Sales
END:VEVENT
BEGIN:VEVENT
DTSTART;TZID=America/Regina:20260217T100000
DTEND;TZID=America/Regina:20260217T160000
DTSTAMP:20260421T043220
CREATED:20251211T143007Z
LAST-MODIFIED:20251211T143007Z
UID:4766-1771322400-1771344000@www.saskatoonlivestocksales.com
SUMMARY:Regular Sale
DESCRIPTION:
URL:https://www.saskatoonlivestocksales.com/sale/regular-sale-35/2026-02-17/
CATEGORIES:Regular Sales
END:VEVENT
BEGIN:VEVENT
DTSTART;TZID=America/Regina:20260210T100000
DTEND;TZID=America/Regina:20260210T160000
DTSTAMP:20260421T043220
CREATED:20251211T143007Z
LAST-MODIFIED:20251211T143007Z
UID:4765-1770717600-1770739200@www.saskatoonlivestocksales.com
SUMMARY:Regular Sale
DESCRIPTION:
URL:https://www.saskatoonlivestocksales.com/sale/regular-sale-35/2026-02-10/
CATEGORIES:Regular Sales
END:VEVENT
BEGIN:VEVENT
DTSTART;TZID=America/Regina:20260203T100000
DTEND;TZID=America/Regina:20260203T160000
DTSTAMP:20260421T043220
CREATED:20251211T143007Z
LAST-MODIFIED:20251211T143007Z
UID:4764-1770112800-1770134400@www.saskatoonlivestocksales.com
SUMMARY:Regular Sale
DESCRIPTION:
URL:https://www.saskatoonlivestocksales.com/sale/regular-sale-35/2026-02-03/
CATEGORIES:Regular Sales
END:VEVENT
BEGIN:VEVENT
DTSTART;TZID=America/Regina:20260127T100000
DTEND;TZID=America/Regina:20260127T160000
DTSTAMP:20260421T043220
CREATED:20251211T143007Z
LAST-MODIFIED:20251211T143007Z
UID:4763-1769508000-1769529600@www.saskatoonlivestocksales.com
SUMMARY:Regular Sale
DESCRIPTION:
URL:https://www.saskatoonlivestocksales.com/sale/regular-sale-35/2026-01-27/
CATEGORIES:Regular Sales
END:VEVENT
BEGIN:VEVENT
DTSTART;TZID=America/Regina:20260120T100000
DTEND;TZID=America/Regina:20260120T160000
DTSTAMP:20260421T043220
CREATED:20251211T143007Z
LAST-MODIFIED:20251211T143007Z
UID:4762-1768903200-1768924800@www.saskatoonlivestocksales.com
SUMMARY:Regular Sale
DESCRIPTION:
URL:https://www.saskatoonlivestocksales.com/sale/regular-sale-35/2026-01-20/
CATEGORIES:Regular Sales
END:VEVENT
BEGIN:VEVENT
DTSTART;TZID=America/Regina:20260113T100000
DTEND;TZID=America/Regina:20260113T160000
DTSTAMP:20260421T043220
CREATED:20251211T143007Z
LAST-MODIFIED:20251211T143007Z
UID:4761-1768298400-1768320000@www.saskatoonlivestocksales.com
SUMMARY:Regular Sale
DESCRIPTION:
URL:https://www.saskatoonlivestocksales.com/sale/regular-sale-35/2026-01-13/
CATEGORIES:Regular Sales
END:VEVENT
BEGIN:VEVENT
DTSTART;TZID=America/Regina:20260106T100000
DTEND;TZID=America/Regina:20260106T160000
DTSTAMP:20260421T043220
CREATED:20251211T143007Z
LAST-MODIFIED:20251211T143007Z
UID:4760-1767693600-1767715200@www.saskatoonlivestocksales.com
SUMMARY:Regular Sale
DESCRIPTION:
URL:https://www.saskatoonlivestocksales.com/sale/regular-sale-35/2026-01-06/
CATEGORIES:Regular Sales
END:VEVENT
BEGIN:VEVENT
DTSTART;TZID=America/Regina:20251121T100000
DTEND;TZID=America/Regina:20251121T160000
DTSTAMP:20260421T043220
CREATED:20250722T163434Z
LAST-MODIFIED:20250722T163434Z
UID:4502-1763719200-1763740800@www.saskatoonlivestocksales.com
SUMMARY:Regular Sale
DESCRIPTION:
URL:https://www.saskatoonlivestocksales.com/sale/regular-sale-34/
CATEGORIES:Regular Sales
END:VEVENT
BEGIN:VEVENT
DTSTART;TZID=America/Regina:20251107T100000
DTEND;TZID=America/Regina:20251107T160000
DTSTAMP:20260421T043220
CREATED:20250722T163403Z
LAST-MODIFIED:20250722T163403Z
UID:4500-1762509600-1762531200@www.saskatoonlivestocksales.com
SUMMARY:Regular Sale
DESCRIPTION:
URL:https://www.saskatoonlivestocksales.com/sale/regular-sale-33/2025-11-07/
CATEGORIES:Regular Sales
END:VEVENT
BEGIN:VEVENT
DTSTART;TZID=America/Regina:20251031T100000
DTEND;TZID=America/Regina:20251031T160000
DTSTAMP:20260421T043220
CREATED:20250722T163403Z
LAST-MODIFIED:20250722T163403Z
UID:4499-1761904800-1761926400@www.saskatoonlivestocksales.com
SUMMARY:Regular Sale
DESCRIPTION:
URL:https://www.saskatoonlivestocksales.com/sale/regular-sale-33/2025-10-31/
CATEGORIES:Regular Sales
END:VEVENT
BEGIN:VEVENT
DTSTART;TZID=America/Regina:20251024T100000
DTEND;TZID=America/Regina:20251024T160000
DTSTAMP:20260421T043220
CREATED:20250722T163403Z
LAST-MODIFIED:20250722T163403Z
UID:4498-1761300000-1761321600@www.saskatoonlivestocksales.com
SUMMARY:Regular Sale
DESCRIPTION:
URL:https://www.saskatoonlivestocksales.com/sale/regular-sale-33/2025-10-24/
CATEGORIES:Regular Sales
END:VEVENT
BEGIN:VEVENT
DTSTART;TZID=America/Regina:20251017T100000
DTEND;TZID=America/Regina:20251017T160000
DTSTAMP:20260421T043220
CREATED:20250722T163403Z
LAST-MODIFIED:20250722T163403Z
UID:4497-1760695200-1760716800@www.saskatoonlivestocksales.com
SUMMARY:Regular Sale
DESCRIPTION:
URL:https://www.saskatoonlivestocksales.com/sale/regular-sale-33/2025-10-17/
CATEGORIES:Regular Sales
END:VEVENT
BEGIN:VEVENT
DTSTART;TZID=America/Regina:20251010T100000
DTEND;TZID=America/Regina:20251010T160000
DTSTAMP:20260421T043221
CREATED:20250722T163403Z
LAST-MODIFIED:20250722T163403Z
UID:4496-1760090400-1760112000@www.saskatoonlivestocksales.com
SUMMARY:Regular Sale
DESCRIPTION:
URL:https://www.saskatoonlivestocksales.com/sale/regular-sale-33/2025-10-10/
CATEGORIES:Regular Sales
END:VEVENT
BEGIN:VEVENT
DTSTART;TZID=America/Regina:20251003T100000
DTEND;TZID=America/Regina:20251003T160000
DTSTAMP:20260421T043221
CREATED:20250722T163403Z
LAST-MODIFIED:20250722T163403Z
UID:4495-1759485600-1759507200@www.saskatoonlivestocksales.com
SUMMARY:Regular Sale
DESCRIPTION:
URL:https://www.saskatoonlivestocksales.com/sale/regular-sale-33/2025-10-03/
CATEGORIES:Regular Sales
END:VEVENT
BEGIN:VEVENT
DTSTART;TZID=America/Regina:20250919T100000
DTEND;TZID=America/Regina:20250919T160000
DTSTAMP:20260421T043221
CREATED:20250722T163332Z
LAST-MODIFIED:20250722T163332Z
UID:4493-1758276000-1758297600@www.saskatoonlivestocksales.com
SUMMARY:Regular Sale
DESCRIPTION:
URL:https://www.saskatoonlivestocksales.com/sale/regular-sale-32/
CATEGORIES:Regular Sales
END:VEVENT
BEGIN:VEVENT
DTSTART;TZID=America/Regina:20250905T100000
DTEND;TZID=America/Regina:20250905T160000
DTSTAMP:20260421T043221
CREATED:20250722T163310Z
LAST-MODIFIED:20250722T163310Z
UID:4491-1757066400-1757088000@www.saskatoonlivestocksales.com
SUMMARY:Regular Sale
DESCRIPTION:
URL:https://www.saskatoonlivestocksales.com/sale/regular-sale-27/
CATEGORIES:Regular Sales
END:VEVENT
BEGIN:VEVENT
DTSTART;TZID=America/Regina:20241217T100000
DTEND;TZID=America/Regina:20241217T160000
DTSTAMP:20260421T043221
CREATED:20240806T210050Z
LAST-MODIFIED:20240806T210050Z
UID:3986-1734429600-1734451200@www.saskatoonlivestocksales.com
SUMMARY:Regular Sale
DESCRIPTION:
URL:https://www.saskatoonlivestocksales.com/sale/regular-sale-31/
CATEGORIES:Regular Sales
END:VEVENT
BEGIN:VEVENT
DTSTART;TZID=America/Regina:20241210T100000
DTEND;TZID=America/Regina:20241210T160000
DTSTAMP:20260421T043221
CREATED:20240806T210026Z
LAST-MODIFIED:20240806T210026Z
UID:3984-1733824800-1733846400@www.saskatoonlivestocksales.com
SUMMARY:Regular Sale
DESCRIPTION:
URL:https://www.saskatoonlivestocksales.com/sale/regular-sale-30/
CATEGORIES:Regular Sales
END:VEVENT
BEGIN:VEVENT
DTSTART;TZID=America/Regina:20241203T100000
DTEND;TZID=America/Regina:20241203T160000
DTSTAMP:20260421T043221
CREATED:20240806T205548Z
LAST-MODIFIED:20240806T205548Z
UID:3982-1733220000-1733241600@www.saskatoonlivestocksales.com
SUMMARY:Regular Sale
DESCRIPTION:
URL:https://www.saskatoonlivestocksales.com/sale/regular-sale-29/
CATEGORIES:Regular Sales
END:VEVENT
BEGIN:VEVENT
DTSTART;TZID=America/Regina:20241126T100000
DTEND;TZID=America/Regina:20241126T160000
DTSTAMP:20260421T043221
CREATED:20240806T204027Z
LAST-MODIFIED:20240806T204027Z
UID:3970-1732615200-1732636800@www.saskatoonlivestocksales.com
SUMMARY:Regular Sale
DESCRIPTION:
URL:https://www.saskatoonlivestocksales.com/sale/regular-sale-26/
CATEGORIES:Regular Sales
END:VEVENT
BEGIN:VEVENT
DTSTART;TZID=America/Regina:20241119T100000
DTEND;TZID=America/Regina:20241119T160000
DTSTAMP:20260421T043221
CREATED:20240806T204002Z
LAST-MODIFIED:20240806T204002Z
UID:3968-1732010400-1732032000@www.saskatoonlivestocksales.com
SUMMARY:Regular Sale
DESCRIPTION:
URL:https://www.saskatoonlivestocksales.com/sale/regular-sale-25/
CATEGORIES:Regular Sales
END:VEVENT
BEGIN:VEVENT
DTSTART;TZID=America/Regina:20241115T100000
DTEND;TZID=America/Regina:20241115T160000
DTSTAMP:20260421T043221
CREATED:20240806T204130Z
LAST-MODIFIED:20240806T204130Z
UID:3974-1731664800-1731686400@www.saskatoonlivestocksales.com
SUMMARY:Regular Sale
DESCRIPTION:
URL:https://www.saskatoonlivestocksales.com/sale/regular-sale-28/
CATEGORIES:Regular Sales
END:VEVENT
END:VCALENDAR